BEGIN:VCALENDAR
VERSION:2.0
PRODID:-//Indy Fuel//indyfuelhockey.com//EN
CALSCALE:GREGORIAN
BEGIN:VEVENT
UID:https://indyfuelhockey.com/games/2026/04/25/fort-wayne-komets
DTSTAMP:20260420T142306Z
SUMMARY:Indy Fuel @ Fort Wayne Komets
DTSTART;TZID=Canada/Eastern:20260425T193500
DTEND;TZID=Canada/Eastern:20260425T223500
DESCRIPTION:Indy Fuel at Fort Wayne Komets
LOCATION:Memorial Coliseum\, Fort Wayne\, Indiana
URL;VALUE=URI:https://indyfuelhockey.com/games/2026/04/25/fort-wayne-komets
END:VEVENT
END:VCALENDAR
