BEGIN:VCALENDAR
VERSION:2.0
PRODID:-//Indy Fuel//indyfuelhockey.com//EN
CALSCALE:GREGORIAN
BEGIN:VEVENT
UID:https://indyfuelhockey.com/games/2026/04/28/central-division-semifinals
 -vs-fort-wayne-komets-game-3
DTSTAMP:20260420T215851Z
SUMMARY:Central Division Semifinals vs Fort Wayne Komets: Game 3
DTSTART;TZID=Canada/Eastern:20260428T190500
DTEND;TZID=Canada/Eastern:20260428T220500
DESCRIPTION:Fort Wayne Komets at Indy Fuel
LOCATION:Fishers Event Center\, Fishers\, Indiana
URL;VALUE=URI:https://indyfuelhockey.com/games/2026/04/28/central-division-
 semifinals-vs-fort-wayne-komets-game-3
END:VEVENT
END:VCALENDAR
