BEGIN:VCALENDAR
VERSION:2.0
PRODID:-//Indy Fuel//indyfuelhockey.com//EN
CALSCALE:GREGORIAN
BEGIN:VEVENT
UID:https://indyfuelhockey.com/games/2026/04/29/central-division-semifinals
 -vs-fort-wayne-komets-game-4
DTSTAMP:20260420T214723Z
SUMMARY:Central Division Semifinals vs Fort Wayne Komets: Game 4
DTSTART;TZID=Canada/Eastern:20260429T190500
DTEND;TZID=Canada/Eastern:20260429T220500
DESCRIPTION:Fort Wayne Komets at Indy Fuel
LOCATION:Fishers Event Center\, Fishers\, Indiana
URL;VALUE=URI:https://indyfuelhockey.com/games/2026/04/29/central-division-
 semifinals-vs-fort-wayne-komets-game-4
END:VEVENT
END:VCALENDAR
