BEGIN:VCALENDAR
VERSION:2.0
PRODID:-//Indy Fuel//indyfuelhockey.com//EN
CALSCALE:GREGORIAN
BEGIN:VEVENT
UID:https://indyfuelhockey.com/games/2026/04/29/fort-wayne-komets
DTSTAMP:20260420T042745Z
SUMMARY:Fort Wayne Komets @ Indy Fuel
DTSTART;TZID=Canada/Eastern:20260429T190500
DTEND;TZID=Canada/Eastern:20260429T220500
DESCRIPTION:Fort Wayne Komets at Indy Fuel
LOCATION:Fishers Event Center\, Fishers\, Indiana
URL;VALUE=URI:https://indyfuelhockey.com/games/2026/04/29/fort-wayne-komets
END:VEVENT
END:VCALENDAR
